BEGIN:VCALENDAR
VERSION:2.0
PRODID:-//37th District Democrats - ECPv6.15.17//NONSGML v1.0//EN
CALSCALE:GREGORIAN
METHOD:PUBLISH
X-ORIGINAL-URL:https://37dems.org
X-WR-CALDESC:Events for 37th District Democrats
REFRESH-INTERVAL;VALUE=DURATION:PT1H
X-Robots-Tag:noindex
X-PUBLISHED-TTL:PT1H
BEGIN:VTIMEZONE
TZID:America/Los_Angeles
BEGIN:DAYLIGHT
TZOFFSETFROM:-0800
TZOFFSETTO:-0700
TZNAME:PDT
DTSTART:20190310T100000
END:DAYLIGHT
BEGIN:STANDARD
TZOFFSETFROM:-0700
TZOFFSETTO:-0800
TZNAME:PST
DTSTART:20191103T090000
END:STANDARD
BEGIN:DAYLIGHT
TZOFFSETFROM:-0800
TZOFFSETTO:-0700
TZNAME:PDT
DTSTART:20200308T100000
END:DAYLIGHT
BEGIN:STANDARD
TZOFFSETFROM:-0700
TZOFFSETTO:-0800
TZNAME:PST
DTSTART:20201101T090000
END:STANDARD
BEGIN:DAYLIGHT
TZOFFSETFROM:-0800
TZOFFSETTO:-0700
TZNAME:PDT
DTSTART:20210314T100000
END:DAYLIGHT
BEGIN:STANDARD
TZOFFSETFROM:-0700
TZOFFSETTO:-0800
TZNAME:PST
DTSTART:20211107T090000
END:STANDARD
BEGIN:DAYLIGHT
TZOFFSETFROM:-0800
TZOFFSETTO:-0700
TZNAME:PDT
DTSTART:20220313T100000
END:DAYLIGHT
BEGIN:STANDARD
TZOFFSETFROM:-0700
TZOFFSETTO:-0800
TZNAME:PST
DTSTART:20221106T090000
END:STANDARD
BEGIN:DAYLIGHT
TZOFFSETFROM:-0800
TZOFFSETTO:-0700
TZNAME:PDT
DTSTART:20230312T100000
END:DAYLIGHT
BEGIN:STANDARD
TZOFFSETFROM:-0700
TZOFFSETTO:-0800
TZNAME:PST
DTSTART:20231105T090000
END:STANDARD
BEGIN:DAYLIGHT
TZOFFSETFROM:-0800
TZOFFSETTO:-0700
TZNAME:PDT
DTSTART:20240310T100000
END:DAYLIGHT
BEGIN:STANDARD
TZOFFSETFROM:-0700
TZOFFSETTO:-0800
TZNAME:PST
DTSTART:20241103T090000
END:STANDARD
END:VTIMEZONE
BEGIN:VEVENT
DTSTART;TZID=America/Los_Angeles:20201109T190000
DTEND;TZID=America/Los_Angeles:20201109T220000
DTSTAMP:20260421T180937
CREATED:20191230T053038Z
LAST-MODIFIED:20200824T054522Z
UID:2448-1604948400-1604959200@37dems.org
SUMMARY:D37 Monthly Meeting
DESCRIPTION:We look forward to seeing you at our next Zoom membership meeting. \nMonday\, NOVEMBER  9\, 2020 \nCheck in: 6:40pm \nConvene: 7:00pm \nYou will need to pre-register to receive the link to the meeting.  \nPlease join our email list to receive meeting notifications. \nPlease note: Due to the variable nature of the monthly meeting agenda\, adjournment by 10:00pm may not always be guaranteed. 
URL:https://37dems.org/event/d37-monthly-meeting-17/
CATEGORIES:Membership Meeting
ATTACH;FMTTYPE=image/jpeg:https://37dems.org/wp-content/uploads/2018/01/24993269_1796989893665638_2845656725505499536_n.jpg
END:VEVENT
BEGIN:VEVENT
DTSTART;TZID=America/Los_Angeles:20210111T190000
DTEND;TZID=America/Los_Angeles:20210111T210000
DTSTAMP:20260421T180937
CREATED:20201219T055945Z
LAST-MODIFIED:20210102T020718Z
UID:3046-1610391600-1610398800@37dems.org
SUMMARY:D37 Biennial Reorganization Meeting
DESCRIPTION:On Monday evening\, January 11\, the 37th LD will hold its biennial reorganization meeting. This is when we will elect officers to serve in the upcoming two-year term. The meeting will be held via Zoom. More information about the election process may be found in our bylaws. We look forward to seeing you! \nMonday\, JANUARY  11\, 2021 \nCheck in: 6:30pm \nConvene: 7:00pm \nYou will need to pre-register to receive the link to the meeting.  \nPlease join our email list to receive meeting notifications. \nPlease note: Due to the variable nature of the monthly meeting agenda\, adjournment by 9:00pm may not always be guaranteed. 
URL:https://37dems.org/event/d37-monthly-meeting-9/
CATEGORIES:Membership Meeting
ATTACH;FMTTYPE=image/jpeg:https://37dems.org/wp-content/uploads/2018/05/vectorstock_15874162-crop2.jpg
END:VEVENT
BEGIN:VEVENT
DTSTART;TZID=America/Los_Angeles:20210208T190000
DTEND;TZID=America/Los_Angeles:20210208T210000
DTSTAMP:20260421T180937
CREATED:20201219T060203Z
LAST-MODIFIED:20201219T060203Z
UID:3048-1612810800-1612818000@37dems.org
SUMMARY:D37 Monthly Meeting
DESCRIPTION:We look forward to seeing you at our next Zoom membership meeting. \nMonday\, FEBRUARY 8\, 2021 \nCheck in: 6:40pm \nConvene: 7:00pm \nYou will need to pre-register to receive the link to the meeting.  \nPlease join our email list to receive meeting notifications. \nPlease note: Due to the variable nature of the monthly meeting agenda\, adjournment by 9:00pm may not always be guaranteed. 
URL:https://37dems.org/event/d37-monthly-meeting-18/
CATEGORIES:Membership Meeting
ATTACH;FMTTYPE=image/jpeg:https://37dems.org/wp-content/uploads/2018/01/24993269_1796989893665638_2845656725505499536_n.jpg
END:VEVENT
BEGIN:VEVENT
DTSTART;TZID=America/Los_Angeles:20210308T190000
DTEND;TZID=America/Los_Angeles:20210308T210000
DTSTAMP:20260421T180937
CREATED:20201219T060316Z
LAST-MODIFIED:20201219T060812Z
UID:3050-1615230000-1615237200@37dems.org
SUMMARY:D37 Monthly Meeting
DESCRIPTION:We look forward to seeing you at our next Zoom membership meeting. \nMonday\, MARCH 8\, 2021 \nCheck in: 6:40pm \nConvene: 7:00pm \nYou will need to pre-register to receive the link to the meeting.  \nPlease join our email list to receive meeting notifications. \nPlease note: Due to the variable nature of the monthly meeting agenda\, adjournment by 9:00pm may not always be guaranteed. 
URL:https://37dems.org/event/d37-monthly-meeting-19/
CATEGORIES:Membership Meeting
ATTACH;FMTTYPE=image/jpeg:https://37dems.org/wp-content/uploads/2018/01/24993269_1796989893665638_2845656725505499536_n.jpg
END:VEVENT
BEGIN:VEVENT
DTSTART;TZID=America/Los_Angeles:20210412T190000
DTEND;TZID=America/Los_Angeles:20210412T210000
DTSTAMP:20260421T180937
CREATED:20201219T060424Z
LAST-MODIFIED:20201219T060755Z
UID:3052-1618254000-1618261200@37dems.org
SUMMARY:D37 Monthly Meeting
DESCRIPTION:We look forward to seeing you at our next Zoom membership meeting. \nMonday\, APRIL 12\, 2021 \nCheck in: 6:40pm \nConvene: 7:00pm \nYou will need to pre-register to receive the link to the meeting.  \nPlease join our email list to receive meeting notifications. \nPlease note: Due to the variable nature of the monthly meeting agenda\, adjournment by 9:00pm may not always be guaranteed. 
URL:https://37dems.org/event/d37-monthly-meeting-20/
CATEGORIES:Membership Meeting
ATTACH;FMTTYPE=image/jpeg:https://37dems.org/wp-content/uploads/2018/01/24993269_1796989893665638_2845656725505499536_n.jpg
END:VEVENT
BEGIN:VEVENT
DTSTART;TZID=America/Los_Angeles:20210524T190000
DTEND;TZID=America/Los_Angeles:20210524T210000
DTSTAMP:20260421T180937
CREATED:20201219T060557Z
LAST-MODIFIED:20210404T210018Z
UID:3054-1621882800-1621890000@37dems.org
SUMMARY:D37 Monthly Meeting
DESCRIPTION:We look forward to seeing you at our next Zoom membership meeting. \nMonday\, MAY 24\, 2021 \n(Please note this special date\, as this will be a candidate endorsement meeting.) \nCheck in: 6:40pm \nConvene: 7:00pm \nYou will need to pre-register to receive the link to the meeting.  \nPlease join our email list to receive meeting notifications. \nPlease note: Due to the variable nature of the monthly meeting agenda\, adjournment by 9:00pm may not always be guaranteed. 
URL:https://37dems.org/event/d37-monthly-meeting-21/
CATEGORIES:Membership Meeting
ATTACH;FMTTYPE=image/jpeg:https://37dems.org/wp-content/uploads/2018/01/24993269_1796989893665638_2845656725505499536_n.jpg
END:VEVENT
BEGIN:VEVENT
DTSTART;TZID=America/Los_Angeles:20210614T190000
DTEND;TZID=America/Los_Angeles:20210614T210000
DTSTAMP:20260421T180937
CREATED:20201219T060719Z
LAST-MODIFIED:20201219T060719Z
UID:3056-1623697200-1623704400@37dems.org
SUMMARY:D37 Monthly Meeting
DESCRIPTION:We look forward to seeing you at our next Zoom membership meeting. \nMonday\, JUNE 14\, 2021 \nCheck in: 6:40pm \nConvene: 7:00pm \nYou will need to pre-register to receive the link to the meeting.  \nPlease join our email list to receive meeting notifications. \nPlease note: Due to the variable nature of the monthly meeting agenda\, adjournment by 9:00pm may not always be guaranteed. 
URL:https://37dems.org/event/d37-monthly-meeting-22/
CATEGORIES:Membership Meeting
ATTACH;FMTTYPE=image/jpeg:https://37dems.org/wp-content/uploads/2018/01/24993269_1796989893665638_2845656725505499536_n.jpg
END:VEVENT
BEGIN:VEVENT
DTSTART;TZID=America/Los_Angeles:20210712T190000
DTEND;TZID=America/Los_Angeles:20210712T210000
DTSTAMP:20260421T180937
CREATED:20201219T061001Z
LAST-MODIFIED:20201219T061001Z
UID:3060-1626116400-1626123600@37dems.org
SUMMARY:D37 Monthly Meeting
DESCRIPTION:We look forward to seeing you at our next Zoom membership meeting. \nMonday\, JULY 12\, 2021 \nCheck in: 6:40pm \nConvene: 7:00pm \nYou will need to pre-register to receive the link to the meeting.  \nPlease join our email list to receive meeting notifications. \nPlease note: Due to the variable nature of the monthly meeting agenda\, adjournment by 9:00pm may not always be guaranteed. 
URL:https://37dems.org/event/d37-monthly-meeting-23/
CATEGORIES:Membership Meeting
ATTACH;FMTTYPE=image/jpeg:https://37dems.org/wp-content/uploads/2018/01/24993269_1796989893665638_2845656725505499536_n.jpg
END:VEVENT
BEGIN:VEVENT
DTSTART;TZID=America/Los_Angeles:20210809T190000
DTEND;TZID=America/Los_Angeles:20210809T210000
DTSTAMP:20260421T180937
CREATED:20201219T061241Z
LAST-MODIFIED:20201219T061241Z
UID:3062-1628535600-1628542800@37dems.org
SUMMARY:D37 Monthly Meeting
DESCRIPTION:We look forward to seeing you at our next Zoom membership meeting. \nMonday\, AUGUST 9\, 2021 \nCheck in: 6:40pm \nConvene: 7:00pm \nYou will need to pre-register to receive the link to the meeting.  \nPlease join our email list to receive meeting notifications. \nPlease note: Due to the variable nature of the monthly meeting agenda\, adjournment by 9:00pm may not always be guaranteed. 
URL:https://37dems.org/event/d37-monthly-meeting-24/
CATEGORIES:Membership Meeting
ATTACH;FMTTYPE=image/jpeg:https://37dems.org/wp-content/uploads/2018/01/24993269_1796989893665638_2845656725505499536_n.jpg
END:VEVENT
BEGIN:VEVENT
DTSTART;TZID=America/Los_Angeles:20210913T190000
DTEND;TZID=America/Los_Angeles:20210913T210000
DTSTAMP:20260421T180937
CREATED:20201219T061354Z
LAST-MODIFIED:20201219T061354Z
UID:3064-1631559600-1631566800@37dems.org
SUMMARY:D37 Monthly Meeting
DESCRIPTION:We look forward to seeing you at our next Zoom membership meeting. \nMonday\, SEPTEMBER 13\, 2021 \nCheck in: 6:40pm \nConvene: 7:00pm \nYou will need to pre-register to receive the link to the meeting.  \nPlease join our email list to receive meeting notifications. \nPlease note: Due to the variable nature of the monthly meeting agenda\, adjournment by 9:00pm may not always be guaranteed. 
URL:https://37dems.org/event/d37-monthly-meeting-25/
CATEGORIES:Membership Meeting
ATTACH;FMTTYPE=image/jpeg:https://37dems.org/wp-content/uploads/2018/01/24993269_1796989893665638_2845656725505499536_n.jpg
END:VEVENT
BEGIN:VEVENT
DTSTART;TZID=America/Los_Angeles:20211011T190000
DTEND;TZID=America/Los_Angeles:20211011T210000
DTSTAMP:20260421T180937
CREATED:20201219T061507Z
LAST-MODIFIED:20201219T061507Z
UID:3066-1633978800-1633986000@37dems.org
SUMMARY:D37 Monthly Meeting
DESCRIPTION:We look forward to seeing you at our next Zoom membership meeting. \nMonday\, OCTOBER 11\, 2021 \nCheck in: 6:40pm \nConvene: 7:00pm \nYou will need to pre-register to receive the link to the meeting.  \nPlease join our email list to receive meeting notifications. \nPlease note: Due to the variable nature of the monthly meeting agenda\, adjournment by 9:00pm may not always be guaranteed. 
URL:https://37dems.org/event/d37-monthly-meeting-26/
CATEGORIES:Membership Meeting
ATTACH;FMTTYPE=image/jpeg:https://37dems.org/wp-content/uploads/2018/01/24993269_1796989893665638_2845656725505499536_n.jpg
END:VEVENT
BEGIN:VEVENT
DTSTART;TZID=America/Los_Angeles:20211108T190000
DTEND;TZID=America/Los_Angeles:20211108T210000
DTSTAMP:20260421T180937
CREATED:20201219T061611Z
LAST-MODIFIED:20201219T061611Z
UID:3068-1636398000-1636405200@37dems.org
SUMMARY:D37 Monthly Meeting
DESCRIPTION:We look forward to seeing you at our next Zoom membership meeting. \nMonday\, NOVEMBER 8\, 2021 \nCheck in: 6:40pm \nConvene: 7:00pm \nYou will need to pre-register to receive the link to the meeting.  \nPlease join our email list to receive meeting notifications. \nPlease note: Due to the variable nature of the monthly meeting agenda\, adjournment by 9:00pm may not always be guaranteed. 
URL:https://37dems.org/event/d37-monthly-meeting-27/
CATEGORIES:Membership Meeting
ATTACH;FMTTYPE=image/jpeg:https://37dems.org/wp-content/uploads/2018/01/24993269_1796989893665638_2845656725505499536_n.jpg
END:VEVENT
BEGIN:VEVENT
DTSTART;TZID=America/Los_Angeles:20220214T190000
DTEND;TZID=America/Los_Angeles:20220214T210000
DTSTAMP:20260421T180937
CREATED:20220124T203636Z
LAST-MODIFIED:20220124T205011Z
UID:3622-1644865200-1644872400@37dems.org
SUMMARY:37th LD Democrats Monthly Meeting
DESCRIPTION:We look forward to seeing you at our next Zoom membership meeting. \nMonday\, FEBRUARY 14\, 2021 \nCheck in: 6:40pm \nConvene: 7:00pm \nYou will need to pre-register to receive the link to the meeting.  \nPlease join our email list to receive meeting notifications. \nPlease note: Due to the variable nature of the monthly meeting agenda\, adjournment by 9:00pm may not always be guaranteed. 
URL:https://37dems.org/event/d37-monthly-meeting-28/
CATEGORIES:Membership Meeting
ATTACH;FMTTYPE=image/jpeg:https://37dems.org/wp-content/uploads/2018/01/24993269_1796989893665638_2845656725505499536_n.jpg
END:VEVENT
BEGIN:VEVENT
DTSTART;TZID=America/Los_Angeles:20220314T190000
DTEND;TZID=America/Los_Angeles:20220314T210000
DTSTAMP:20260421T180937
CREATED:20220124T205446Z
LAST-MODIFIED:20220124T205446Z
UID:3626-1647284400-1647291600@37dems.org
SUMMARY:37th LD Democrats Monthly Meeting
DESCRIPTION:We look forward to seeing you at our next Zoom membership meeting. \nMonday\, MARCH 14\, 2021 \nCheck in: 6:40pm \nConvene: 7:00pm \nYou will need to pre-register to receive the link to the meeting.  \nPlease join our email list to receive meeting notifications. \nPlease note: Due to the variable nature of the monthly meeting agenda\, adjournment by 9:00pm may not always be guaranteed. 
URL:https://37dems.org/event/37th-ld-democrats-monthly-meeting/
CATEGORIES:Membership Meeting
ATTACH;FMTTYPE=image/jpeg:https://37dems.org/wp-content/uploads/2018/01/24993269_1796989893665638_2845656725505499536_n.jpg
END:VEVENT
BEGIN:VEVENT
DTSTART;TZID=America/Los_Angeles:20220411T190000
DTEND;TZID=America/Los_Angeles:20220411T210000
DTSTAMP:20260421T180937
CREATED:20220124T205801Z
LAST-MODIFIED:20220124T205801Z
UID:3628-1649703600-1649710800@37dems.org
SUMMARY:37th LD Democrats Monthly Meeting
DESCRIPTION:We look forward to seeing you at our next Zoom membership meeting. \nMonday\, APRIL 11\, 2021 \nCheck in: 6:40pm \nConvene: 7:00pm \nYou will need to pre-register to receive the link to the meeting.  \nPlease join our email list to receive meeting notifications. \nPlease note: Due to the variable nature of the monthly meeting agenda\, adjournment by 9:00pm may not always be guaranteed. 
URL:https://37dems.org/event/37th-ld-democrats-monthly-meeting-2/
CATEGORIES:Membership Meeting
ATTACH;FMTTYPE=image/jpeg:https://37dems.org/wp-content/uploads/2018/01/24993269_1796989893665638_2845656725505499536_n.jpg
END:VEVENT
BEGIN:VEVENT
DTSTART;TZID=America/Los_Angeles:20220523T190000
DTEND;TZID=America/Los_Angeles:20220523T210000
DTSTAMP:20260421T180937
CREATED:20220124T210400Z
LAST-MODIFIED:20220415T001654Z
UID:3630-1653332400-1653339600@37dems.org
SUMMARY:37th LD Democrats Monthly Meeting
DESCRIPTION:We look forward to seeing you at our next Zoom membership meeting. At this meeting we will vote on candidate endorsements for the August 2 Primary Election. \nMonday\, MAY 23\, 2021 \nCheck in: 6:40pm \nConvene: 7:00pm \nYou will need to pre-register to receive the link to the meeting.  \nPlease join our email list to receive meeting notifications. \nPlease note: Due to the variable nature of the monthly meeting agenda\, adjournment by 9:00pm may not always be guaranteed. 
URL:https://37dems.org/event/37th-ld-democrats-monthly-meeting-3/
CATEGORIES:Membership Meeting
ATTACH;FMTTYPE=image/jpeg:https://37dems.org/wp-content/uploads/2018/01/24993269_1796989893665638_2845656725505499536_n.jpg
END:VEVENT
BEGIN:VEVENT
DTSTART;TZID=America/Los_Angeles:20220613T190000
DTEND;TZID=America/Los_Angeles:20220613T210000
DTSTAMP:20260421T180937
CREATED:20220124T210542Z
LAST-MODIFIED:20220124T210542Z
UID:3632-1655146800-1655154000@37dems.org
SUMMARY:37th LD Democrats Monthly Meeting
DESCRIPTION:We look forward to seeing you at our next Zoom membership meeting. \nMonday\, JUNE 13\, 2021 \nCheck in: 6:40pm \nConvene: 7:00pm \nYou will need to pre-register to receive the link to the meeting.  \nPlease join our email list to receive meeting notifications. \nPlease note: Due to the variable nature of the monthly meeting agenda\, adjournment by 9:00pm may not always be guaranteed. 
URL:https://37dems.org/event/37th-ld-democrats-monthly-meeting-4/
CATEGORIES:Membership Meeting
ATTACH;FMTTYPE=image/jpeg:https://37dems.org/wp-content/uploads/2018/01/24993269_1796989893665638_2845656725505499536_n.jpg
END:VEVENT
BEGIN:VEVENT
DTSTART;TZID=America/Los_Angeles:20220711T190000
DTEND;TZID=America/Los_Angeles:20220711T210000
DTSTAMP:20260421T180937
CREATED:20220124T210658Z
LAST-MODIFIED:20220124T210658Z
UID:3634-1657566000-1657573200@37dems.org
SUMMARY:37th LD Democrats Monthly Meeting
DESCRIPTION:We look forward to seeing you at our next Zoom membership meeting. \nMonday\, JULY 11\, 2021 \nCheck in: 6:40pm \nConvene: 7:00pm \nYou will need to pre-register to receive the link to the meeting.  \nPlease join our email list to receive meeting notifications. \nPlease note: Due to the variable nature of the monthly meeting agenda\, adjournment by 9:00pm may not always be guaranteed. 
URL:https://37dems.org/event/37th-ld-democrats-monthly-meeting-5/
CATEGORIES:Membership Meeting
ATTACH;FMTTYPE=image/jpeg:https://37dems.org/wp-content/uploads/2018/01/24993269_1796989893665638_2845656725505499536_n.jpg
END:VEVENT
BEGIN:VEVENT
DTSTART;TZID=America/Los_Angeles:20220808T190000
DTEND;TZID=America/Los_Angeles:20220808T210000
DTSTAMP:20260421T180937
CREATED:20220124T210847Z
LAST-MODIFIED:20220124T210847Z
UID:3636-1659985200-1659992400@37dems.org
SUMMARY:37th LD Democrats Monthly Meeting
DESCRIPTION:We look forward to seeing you at our next Zoom membership meeting. \nMonday\, AUGUST 8\, 2021 \nCheck in: 6:40pm \nConvene: 7:00pm \nYou will need to pre-register to receive the link to the meeting.  \nPlease join our email list to receive meeting notifications. \nPlease note: Due to the variable nature of the monthly meeting agenda\, adjournment by 9:00pm may not always be guaranteed. 
URL:https://37dems.org/event/37th-ld-democrats-monthly-meeting-6/
CATEGORIES:Membership Meeting
ATTACH;FMTTYPE=image/jpeg:https://37dems.org/wp-content/uploads/2018/01/24993269_1796989893665638_2845656725505499536_n.jpg
END:VEVENT
BEGIN:VEVENT
DTSTART;TZID=America/Los_Angeles:20220912T190000
DTEND;TZID=America/Los_Angeles:20220912T210000
DTSTAMP:20260421T180937
CREATED:20220124T211051Z
LAST-MODIFIED:20220124T211051Z
UID:3638-1663009200-1663016400@37dems.org
SUMMARY:37th LD Democrats Monthly Meeting
DESCRIPTION:We look forward to seeing you at our next Zoom membership meeting. \nMonday\, SEPTEMBER 12\, 2021 \nCheck in: 6:40pm \nConvene: 7:00pm \nYou will need to pre-register to receive the link to the meeting.  \nPlease join our email list to receive meeting notifications. \nPlease note: Due to the variable nature of the monthly meeting agenda\, adjournment by 9:00pm may not always be guaranteed. 
URL:https://37dems.org/event/37th-ld-democrats-monthly-meeting-7/
CATEGORIES:Membership Meeting
ATTACH;FMTTYPE=image/jpeg:https://37dems.org/wp-content/uploads/2018/01/24993269_1796989893665638_2845656725505499536_n.jpg
END:VEVENT
BEGIN:VEVENT
DTSTART;TZID=America/Los_Angeles:20221010T190000
DTEND;TZID=America/Los_Angeles:20221010T210000
DTSTAMP:20260421T180937
CREATED:20220124T211214Z
LAST-MODIFIED:20220124T211214Z
UID:3640-1665428400-1665435600@37dems.org
SUMMARY:37th LD Democrats Monthly Meeting
DESCRIPTION:We look forward to seeing you at our next Zoom membership meeting. \nMonday\, OCTOBER 10\, 2021 \nCheck in: 6:40pm \nConvene: 7:00pm \nYou will need to pre-register to receive the link to the meeting.  \nPlease join our email list to receive meeting notifications. \nPlease note: Due to the variable nature of the monthly meeting agenda\, adjournment by 9:00pm may not always be guaranteed. 
URL:https://37dems.org/event/37th-ld-democrats-monthly-meeting-8/
CATEGORIES:Membership Meeting
ATTACH;FMTTYPE=image/jpeg:https://37dems.org/wp-content/uploads/2018/01/24993269_1796989893665638_2845656725505499536_n.jpg
END:VEVENT
BEGIN:VEVENT
DTSTART;TZID=America/Los_Angeles:20221114T190000
DTEND;TZID=America/Los_Angeles:20221114T210000
DTSTAMP:20260421T180937
CREATED:20220124T211347Z
LAST-MODIFIED:20220124T211347Z
UID:3642-1668452400-1668459600@37dems.org
SUMMARY:37th LD Democrats Monthly Meeting
DESCRIPTION:We look forward to seeing you at our next Zoom membership meeting. \nMonday\, NOVEMBER 14\, 2021 \nCheck in: 6:40pm \nConvene: 7:00pm \nYou will need to pre-register to receive the link to the meeting.  \nPlease join our email list to receive meeting notifications. \nPlease note: Due to the variable nature of the monthly meeting agenda\, adjournment by 9:00pm may not always be guaranteed. 
URL:https://37dems.org/event/37th-ld-democrats-monthly-meeting-9/
CATEGORIES:Membership Meeting
ATTACH;FMTTYPE=image/jpeg:https://37dems.org/wp-content/uploads/2018/01/24993269_1796989893665638_2845656725505499536_n.jpg
END:VEVENT
BEGIN:VEVENT
DTSTART;TZID=America/Los_Angeles:20230109T190000
DTEND;TZID=America/Los_Angeles:20230109T210000
DTSTAMP:20260421T180937
CREATED:20221203T191831Z
LAST-MODIFIED:20221203T192245Z
UID:4197-1673290800-1673298000@37dems.org
SUMMARY:37th LD Democrats Reorganization Meeting
DESCRIPTION:We look forward to seeing you at our district reorganization meeting\, to be held on Zoom. We will be electing officers to serve in the next two-year term.  \nMonday\, January 9\, 2023 \nCheck in: 6:40pm \nConvene: 7:00pm \nYou will need to pre-register to receive the link to the meeting.  \nPlease join our email list to receive meeting notifications. \nPlease note: Due to the variable nature of the monthly meeting agenda\, adjournment by 9:00pm may not always be guaranteed. 
URL:https://37dems.org/event/37th-ld-democrats-reorganization-meeting/
CATEGORIES:Membership Meeting
ATTACH;FMTTYPE=image/jpeg:https://37dems.org/wp-content/uploads/2017/06/vote2.jpg
END:VEVENT
BEGIN:VEVENT
DTSTART;TZID=America/Los_Angeles:20230213T190000
DTEND;TZID=America/Los_Angeles:20230213T210000
DTSTAMP:20260421T180937
CREATED:20230128T112424Z
LAST-MODIFIED:20230128T112530Z
UID:4258-1676314800-1676322000@37dems.org
SUMMARY:37th LD Democrats Monthly Meeting
DESCRIPTION:We look forward to seeing you at our next Zoom membership meeting. \nMonday\, FEBRUARY 13\, 2023 \nCheck in: 6:40pm \nConvene: 7:00pm \nYou will need to pre-register to receive the link to the meeting.  \nPlease join our email list to receive meeting notifications. \nPlease note: Due to the variable nature of the monthly meeting agenda\, adjournment by 9:00pm may not always be guaranteed. 
URL:https://37dems.org/event/37th-ld-democrats-monthly-meeting-10/
CATEGORIES:Membership Meeting
ATTACH;FMTTYPE=image/jpeg:https://37dems.org/wp-content/uploads/2018/05/vectorstock_15874162-crop2.jpg
END:VEVENT
BEGIN:VEVENT
DTSTART;TZID=America/Los_Angeles:20230313T190000
DTEND;TZID=America/Los_Angeles:20230313T210000
DTSTAMP:20260421T180937
CREATED:20230222T001708Z
LAST-MODIFIED:20230222T001708Z
UID:4278-1678734000-1678741200@37dems.org
SUMMARY:37th LD Democrats Monthly Meeting
DESCRIPTION:We look forward to seeing you at our next Zoom membership meeting. \nMonday\, MARCH 13\, 2023 \nCheck in: 6:40pm \nConvene: 7:00pm \nYou will need to pre-register to receive the link to the meeting.  \nPlease join our email list to receive meeting notifications. \nPlease note: Due to the variable nature of the monthly meeting agenda\, adjournment by 9:00pm may not always be guaranteed. 
URL:https://37dems.org/event/37th-ld-democrats-monthly-meeting-11/
CATEGORIES:Membership Meeting
ATTACH;FMTTYPE=image/jpeg:https://37dems.org/wp-content/uploads/2018/05/vectorstock_15874162-crop2.jpg
END:VEVENT
BEGIN:VEVENT
DTSTART;TZID=America/Los_Angeles:20230410T190000
DTEND;TZID=America/Los_Angeles:20230410T210000
DTSTAMP:20260421T180937
CREATED:20230222T002118Z
LAST-MODIFIED:20230222T002118Z
UID:4280-1681153200-1681160400@37dems.org
SUMMARY:37th LD Democrats Monthly Meeting
DESCRIPTION:We look forward to seeing you at our next Zoom membership meeting. \nMonday\, APRIL 10\, 2023 \nCheck in: 6:40pm \nConvene: 7:00pm \nYou will need to pre-register to receive the link to the meeting.  \nPlease join our email list to receive meeting notifications. \nPlease note: Due to the variable nature of the monthly meeting agenda\, adjournment by 9:00pm may not always be guaranteed. 
URL:https://37dems.org/event/37th-ld-democrats-monthly-meeting-12/
CATEGORIES:Membership Meeting
ATTACH;FMTTYPE=image/jpeg:https://37dems.org/wp-content/uploads/2018/05/vectorstock_15874162-crop2.jpg
END:VEVENT
BEGIN:VEVENT
DTSTART;TZID=America/Los_Angeles:20230522T190000
DTEND;TZID=America/Los_Angeles:20230522T210000
DTSTAMP:20260421T180937
CREATED:20230222T002740Z
LAST-MODIFIED:20230222T002740Z
UID:4282-1684782000-1684789200@37dems.org
SUMMARY:2023 Primary Election Endorsement Meeting
DESCRIPTION:We look forward to seeing you at our 2023 Primary Election Endorsement Meeting\, to be held on Zoom. \nMonday\, MAY 22\, 2023 \nCheck in: 6:30pm \nConvene: 7:00pm \nYou will need to pre-register to receive the link to the meeting.  \nPlease join our email list to receive meeting notifications. \nPlease note: Due to the variable nature of the monthly meeting agenda\, adjournment by 9:00pm may not always be guaranteed. 
URL:https://37dems.org/event/2023-primary-election-endorsement-meeting/
CATEGORIES:Membership Meeting
ATTACH;FMTTYPE=image/jpeg:https://37dems.org/wp-content/uploads/2018/05/vectorstock_15874162-crop2.jpg
END:VEVENT
BEGIN:VEVENT
DTSTART;TZID=America/Los_Angeles:20230612T190000
DTEND;TZID=America/Los_Angeles:20230612T210000
DTSTAMP:20260421T180937
CREATED:20230222T003306Z
LAST-MODIFIED:20230222T003306Z
UID:4285-1686596400-1686603600@37dems.org
SUMMARY:37th LD Democrats Monthly Meeting
DESCRIPTION:We look forward to seeing you at our next Zoom membership meeting. \nMonday\, JUNE 12\, 2023 \nCheck in: 6:40pm \nConvene: 7:00pm \nYou will need to pre-register to receive the link to the meeting.  \nPlease join our email list to receive meeting notifications. \nPlease note: Due to the variable nature of the monthly meeting agenda\, adjournment by 9:00pm may not always be guaranteed. 
URL:https://37dems.org/event/37th-ld-democrats-monthly-meeting-13/
CATEGORIES:Membership Meeting
ATTACH;FMTTYPE=image/jpeg:https://37dems.org/wp-content/uploads/2018/05/vectorstock_15874162-crop2.jpg
END:VEVENT
BEGIN:VEVENT
DTSTART;TZID=America/Los_Angeles:20230710T190000
DTEND;TZID=America/Los_Angeles:20230710T210000
DTSTAMP:20260421T180937
CREATED:20230222T003423Z
LAST-MODIFIED:20230222T003423Z
UID:4287-1689015600-1689022800@37dems.org
SUMMARY:37th LD Democrats Monthly Meeting
DESCRIPTION:We look forward to seeing you at our next Zoom membership meeting. \nMonday\, JULY 10\, 2023 \nCheck in: 6:40pm \nConvene: 7:00pm \nYou will need to pre-register to receive the link to the meeting.  \nPlease join our email list to receive meeting notifications. \nPlease note: Due to the variable nature of the monthly meeting agenda\, adjournment by 9:00pm may not always be guaranteed. 
URL:https://37dems.org/event/37th-ld-democrats-monthly-meeting-14/
CATEGORIES:Membership Meeting
ATTACH;FMTTYPE=image/jpeg:https://37dems.org/wp-content/uploads/2018/05/vectorstock_15874162-crop2.jpg
END:VEVENT
BEGIN:VEVENT
DTSTART;TZID=America/Los_Angeles:20230814T190000
DTEND;TZID=America/Los_Angeles:20230814T210000
DTSTAMP:20260421T180937
CREATED:20230222T003625Z
LAST-MODIFIED:20230222T003625Z
UID:4289-1692039600-1692046800@37dems.org
SUMMARY:37th LD Democrats Monthly Meeting
DESCRIPTION:We look forward to seeing you at our next Zoom membership meeting. \nMonday\, AUGUST 14\, 2023 \nCheck in: 6:40pm \nConvene: 7:00pm \nYou will need to pre-register to receive the link to the meeting.  \nPlease join our email list to receive meeting notifications. \nPlease note: Due to the variable nature of the monthly meeting agenda\, adjournment by 9:00pm may not always be guaranteed. 
URL:https://37dems.org/event/37th-ld-democrats-monthly-meeting-15/
CATEGORIES:Membership Meeting
ATTACH;FMTTYPE=image/jpeg:https://37dems.org/wp-content/uploads/2018/05/vectorstock_15874162-crop2.jpg
END:VEVENT
END:VCALENDAR