BEGIN:VCALENDAR
VERSION:2.0
PRODID:-//37th District Democrats - ECPv6.15.17//NONSGML v1.0//EN
CALSCALE:GREGORIAN
METHOD:PUBLISH
X-WR-CALNAME:37th District Democrats
X-ORIGINAL-URL:https://37dems.org
X-WR-CALDESC:Events for 37th District Democrats
REFRESH-INTERVAL;VALUE=DURATION:PT1H
X-Robots-Tag:noindex
X-PUBLISHED-TTL:PT1H
BEGIN:VTIMEZONE
TZID:America/Los_Angeles
BEGIN:DAYLIGHT
TZOFFSETFROM:-0800
TZOFFSETTO:-0700
TZNAME:PDT
DTSTART:20180311T100000
END:DAYLIGHT
BEGIN:STANDARD
TZOFFSETFROM:-0700
TZOFFSETTO:-0800
TZNAME:PST
DTSTART:20181104T090000
END:STANDARD
BEGIN:DAYLIGHT
TZOFFSETFROM:-0800
TZOFFSETTO:-0700
TZNAME:PDT
DTSTART:20190310T100000
END:DAYLIGHT
BEGIN:STANDARD
TZOFFSETFROM:-0700
TZOFFSETTO:-0800
TZNAME:PST
DTSTART:20191103T090000
END:STANDARD
BEGIN:DAYLIGHT
TZOFFSETFROM:-0800
TZOFFSETTO:-0700
TZNAME:PDT
DTSTART:20200308T100000
END:DAYLIGHT
BEGIN:STANDARD
TZOFFSETFROM:-0700
TZOFFSETTO:-0800
TZNAME:PST
DTSTART:20201101T090000
END:STANDARD
END:VTIMEZONE
BEGIN:VEVENT
DTSTART;TZID=America/Los_Angeles:20190909T190000
DTEND;TZID=America/Los_Angeles:20190909T203000
DTSTAMP:20260421T144155
CREATED:20190719T203005Z
LAST-MODIFIED:20190719T203005Z
UID:2234-1568055600-1568061000@37dems.org
SUMMARY:D37 Monthly Meeting
DESCRIPTION:Monday\, September 9\, 2019\n7:00pm\nEthiopian Community Center\n8323 Rainier Ave South\nSeattle
URL:https://37dems.org/event/d37-monthly-meeting-4/
CATEGORIES:Membership Meeting
ATTACH;FMTTYPE=image/jpeg:https://37dems.org/wp-content/uploads/2018/05/vectorstock_15874162-crop2.jpg
END:VEVENT
BEGIN:VEVENT
DTSTART;TZID=America/Los_Angeles:20190923T190000
DTEND;TZID=America/Los_Angeles:20190923T210000
DTSTAMP:20260421T144155
CREATED:20190921T061329Z
LAST-MODIFIED:20190921T061329Z
UID:2329-1569265200-1569272400@37dems.org
SUMMARY:D37 Special Meeting • Remaining Endorsements
DESCRIPTION:Because we were unable to complete the list of D37 endorsements during our allotted meeting time on September 9\, a special meeting will be held this coming Monday\, September 23. The only business on the agenda will be to complete the remaining D37 endorsements\, which consist of Seattle School Board Districts 2 and 6 and a vote on whether to endorse the measure R88/I-1000 (concerning Affirmative Action).  \nDistrict 37 Democrats Special Endorsement Meeting\nMonday\, September 23\, 2019\n7:00pm\nEthiopian Community Center\n8323 Rainier Ave S.\nSeattle\nThe deadline for current membership in order to vote in the endorsement meeting was August 16\, 2019. Please confirm your status here.
URL:https://37dems.org/event/d37-special-meeting-%e2%80%a2-remaining-endorsements/
LOCATION:Ethiopian Community Center Seattle\, 8323 Rainier Ave S\, Seattle\, WA\, 98118\, United States
CATEGORIES:Membership Meeting
ATTACH;FMTTYPE=image/jpeg:https://37dems.org/wp-content/uploads/2019/09/Special.jpg
END:VEVENT
END:VCALENDAR